BEGIN:VCALENDAR
VERSION:2.0
PRODID:-//ChamberMaster//Event Calendar 2.0//EN
METHOD:PUBLISH
X-PUBLISHED-TTL:P3D
REFRESH-INTERVAL:P3D
CALSCALE:GREGORIAN
BEGIN:VEVENT
DTSTART:20160810T153000Z
DTEND:20160810T233000Z
X-MICROSOFT-CDO-ALLDAYEVENT:FALSE
SUMMARY:Youth Mental Health First Aid
DESCRIPTION:Someone you know could be experiencing a mental illness or crisis. You can help them. You are more likely to encounter someone   friend\, family member\, coworker\, neighbor\, or member of the community   in an emotional or mental crisis than someone having a heart attack.\n\n\n\nMental Health First Aid teaches a 5-step action plan to offer initial help to people with the signs and symptoms of a mental illness or in a crisis\, and connect them with the appropriate professional\, peer\, social\, or self help care.\n\n\n\nAnyone can take the 8-hour Mental Health First Aid course   first responders\, students\, teachers\, leaders of faith communities\, human resources professionals\, and caring citizens. Sometimes\, the best first aid is you. Take the course\, save a life\, strengthen your community.
X-ALT-DESC;FMTTYPE=text/html:<strong>Someone you know could be experiencing a mental illness or crisis. You can help them. You are more likely to encounter someone &mdash\; friend\, family member\, coworker\, neighbor\, or member of the community &mdash\; in an emotional or mental crisis than someone having a heart attack.<br />\n<br />\nMental Health First Aid teaches a 5-step action plan to offer initial help to people with the signs and symptoms of a mental illness or in a crisis\, and connect them with the appropriate professional\, peer\, social\, or self help care.<br />\n<br />\nAnyone can take th</strong>e <strong>8-hour Mental Health First Aid course &mdash\; first responders\, students\, teachers\, leaders of faith communities\, human resources professionals\, and caring citizens. Sometimes\, the best first aid is you. Take the course\, save a life\, strengthen your community.</strong>
LOCATION:Options for Southern Oregon Multipurpose Room 1215 SW "G" Street Grants Pass\, OR\, 97526
UID:e.1818.17658
SEQUENCE:3
DTSTAMP:20260425T192634Z
URL:https://business.grantspasschamber.org/events/details/youth-mental-health-first-aid-08-10-2016-17658
END:VEVENT

END:VCALENDAR
