BEGIN:VCALENDAR
VERSION:2.0
PRODID:-//ChamberMaster//Event Calendar 2.0//EN
METHOD:PUBLISH
X-PUBLISHED-TTL:P3D
REFRESH-INTERVAL:P3D
CALSCALE:GREGORIAN
BEGIN:VEVENT
DTSTART;VALUE=DATE:20160811
DTEND;VALUE=DATE:20160813
TRANSP:TRANSPARENT
X-MICROSOFT-CDO-ALLDAYEVENT:TRUE
SUMMARY:Youth Theater Ensemble ~ YMCA
DESCRIPTION:YMCA Summer Musical Theater Camp 2016 presentation
X-ALT-DESC;FMTTYPE=text/html:<strong>YMCA Summer Musical Theater Camp 2016 presentation</strong>
LOCATION:Grants Pass High School Performing Arts Center
UID:e.1818.17708
SEQUENCE:3
DTSTAMP:20260425T192328Z
URL:https://business.grantspasschamber.org/events/details/youth-theater-ensemble-ymca-08-11-2016-17708
END:VEVENT

END:VCALENDAR
